Workbook

Sheet READ ME
A1: Find the LAST match
A2: Practice file from atulvij.com — free to use for learning.
A4: How to use this file
A5: 1. Latest sheet: compare the LOOKUP(2,1/…) trick with XLOOKUP search_mode -1 and VLOOKUP (which gives the OLDEST price).
A6: 2. Add a new row at the bottom of Price history — the latest price updates.

Sheet Price history
A1: Date | B1: Product | C1: Price
A2: 45296 | B2: Mouse | C2: 599
A3: 45302 | B3: USB-C Hub | C3: 2208
A4: 45309 | B4: Webcam | C4: 2821
A5: 45324 | B5: Monitor | C5: 11637
A6: 45335 | B6: Laptop Stand | C6: 1929
A7: 45350 | B7: Mouse | C7: 611
A8: 45363 | B8: Webcam | C8: 2866
A9: 45372 | B9: Laptop Stand | C9: 1952
A10: 45386 | B10: Webcam | C10: 2889
A11: 45401 | B11: Keyboard | C11: 1346
A12: 45406 | B12: Webcam | C12: 2911
A13: 45414 | B13: Keyboard | C13: 1356
... A41: 45759 | B41: USB-C Hub | C41: 2542

Sheet Latest
A1: Product | B1: Latest price: LOOKUP(2,1/…) | C1: Latest price: XLOOKUP -1 | D1: Last changed on | E1: Oldest price (first match)
A2: Keyboard | B2: =LOOKUP(2,1/('Price history'!B2:B41=A2),'Price history'!C2:C41) | C2: =_xlfn.XLOOKUP(A2,'Price history'!B2:B41,'Price history'!C2:C41,"",0,-1) | D2: =_xlfn.MAXIFS('Price history'!A2:A41,'Price history'!B2:B41,A2) | E2: =VLOOKUP(A2,'Price history'!B2:C41,2,FALSE)
A3: Mouse | B3: =LOOKUP(2,1/('Price history'!B2:B41=A3),'Price history'!C2:C41) | C3: =_xlfn.XLOOKUP(A3,'Price history'!B2:B41,'Price history'!C2:C41,"",0,-1) | D3: =_xlfn.MAXIFS('Price history'!A2:A41,'Price history'!B2:B41,A3) | E3: =VLOOKUP(A3,'Price history'!B2:C41,2,FALSE)
A4: Monitor | B4: =LOOKUP(2,1/('Price history'!B2:B41=A4),'Price history'!C2:C41) | C4: =_xlfn.XLOOKUP(A4,'Price history'!B2:B41,'Price history'!C2:C41,"",0,-1) | D4: =_xlfn.MAXIFS('Price history'!A2:A41,'Price history'!B2:B41,A4) | E4: =VLOOKUP(A4,'Price history'!B2:C41,2,FALSE)
A5: Webcam | B5: =LOOKUP(2,1/('Price history'!B2:B41=A5),'Price history'!C2:C41) | C5: =_xlfn.XLOOKUP(A5,'Price history'!B2:B41,'Price history'!C2:C41,"",0,-1) | D5: =_xlfn.MAXIFS('Price history'!A2:A41,'Price history'!B2:B41,A5) | E5: =VLOOKUP(A5,'Price history'!B2:C41,2,FALSE)
A6: USB-C Hub | B6: =LOOKUP(2,1/('Price history'!B2:B41=A6),'Price history'!C2:C41) | C6: =_xlfn.XLOOKUP(A6,'Price history'!B2:B41,'Price history'!C2:C41,"",0,-1) | D6: =_xlfn.MAXIFS('Price history'!A2:A41,'Price history'!B2:B41,A6) | E6: =VLOOKUP(A6,'Price history'!B2:C41,2,FALSE)
A7: Laptop Stand | B7: =LOOKUP(2,1/('Price history'!B2:B41=A7),'Price history'!C2:C41) | C7: =_xlfn.XLOOKUP(A7,'Price history'!B2:B41,'Price history'!C2:C41,"",0,-1) | D7: =_xlfn.MAXIFS('Price history'!A2:A41,'Price history'!B2:B41,A7) | E7: =VLOOKUP(A7,'Price history'!B2:C41,2,FALSE)
